BEGIN:VCALENDAR
VERSION:2.0
PRODID:-//Veterans Impact Show - ECPv6.15.20//NONSGML v1.0//EN
CALSCALE:GREGORIAN
METHOD:PUBLISH
X-WR-CALNAME:Veterans Impact Show
X-ORIGINAL-URL:https://veteransimpactshow.com
X-WR-CALDESC:Events for Veterans Impact Show
REFRESH-INTERVAL;VALUE=DURATION:PT1H
X-Robots-Tag:noindex
X-PUBLISHED-TTL:PT1H
BEGIN:VTIMEZONE
TZID:America/Chicago
BEGIN:DAYLIGHT
TZOFFSETFROM:-0600
TZOFFSETTO:-0500
TZNAME:CDT
DTSTART:20230312T080000
END:DAYLIGHT
BEGIN:STANDARD
TZOFFSETFROM:-0500
TZOFFSETTO:-0600
TZNAME:CST
DTSTART:20231105T070000
END:STANDARD
BEGIN:DAYLIGHT
TZOFFSETFROM:-0600
TZOFFSETTO:-0500
TZNAME:CDT
DTSTART:20240310T080000
END:DAYLIGHT
BEGIN:STANDARD
TZOFFSETFROM:-0500
TZOFFSETTO:-0600
TZNAME:CST
DTSTART:20241103T070000
END:STANDARD
BEGIN:DAYLIGHT
TZOFFSETFROM:-0600
TZOFFSETTO:-0500
TZNAME:CDT
DTSTART:20250309T080000
END:DAYLIGHT
BEGIN:STANDARD
TZOFFSETFROM:-0500
TZOFFSETTO:-0600
TZNAME:CST
DTSTART:20251102T070000
END:STANDARD
END:VTIMEZONE
BEGIN:VEVENT
DTSTART;TZID=America/Chicago:20240906T100000
DTEND;TZID=America/Chicago:20240906T133000
DTSTAMP:20260423T162353
CREATED:20240813T213147Z
LAST-MODIFIED:20240813T213307Z
UID:3949-1725616800-1725629400@veteransimpactshow.com
SUMMARY:Help.Hope.Healing Symposium
DESCRIPTION:Join us at this FREE event where we will be dedicated to Veterans & Veteran Families to provide resources from Veterans organizations\, Health organizations\, and Veterans Charity organizations. \nThis event is designed to provide support and hope for Veterans and their families. \nLUNCH WILL BE PROVIDED!!! \n\n\n\n\n#veterans #impact #show #hearts #military #families #family #conference
URL:https://veteransimpactshow.com/event/help-hope-healing-symposium/
LOCATION:The Hope Center\, 2001 West Plano Parkway\, Plano\, TX\, 75075\, United States
CATEGORIES:Conference
ATTACH;FMTTYPE=image/jpeg:https://veteransimpactshow.com/wp-content/uploads/2024/08/Help-Hope-Healing-Symposium.jpeg
END:VEVENT
END:VCALENDAR